Workbook

Sheet بيانات القطع
A1: 🏛️ بيانات القطع الكاملة | S1: ⚙ إعداد سعر الصرف
A2: تاريخ التصدير: 2026/09/10 | إجمالي القطع: 15,538 | المتاحة: 15,538 | المحجوزة: 0 | الأسعار بالدولار الأمريكي وفق سعر صرف 1$ = 51.40 ج.م | S2: 1 دولار = كام جنيه | T2: 51.4
A3: المدينة | B3: المشروع | C3: المنطقة | D3: المربع | E3: رقم القطعة | F3: المساحة م² | G3: سعر المتر ($) | H3: إجمالى السعر ($) | I3: المقدم ($) | J3: ناصية | K3: حديقة | L3: بحر/نيل | M3: الحالة | N3: تاريخ الحجز | O3: سعر المتر (ج.م) - مصدر | P3: إجمالى السعر (ج.م) - مصدر | Q3: المقدم (ج.م) - مصدر | S3: غيّر الرقم ده وكل الأسعار بالدولار هتتحدث تلقائي
A4: المنيا الجديدة | B4: منطقة 1360 فدان بالامتداد | C4: المجاورة الرابعة بالحى الأول | D4: المجاورة الرابعة بالحى الأول | E4: 1 | F4: 455.9 | G4: =O4/$T$2 -> 4.2996109 | H4: =P4/$T$2 -> 1960.1926 | I4: =Q4/$T$2 -> 490.04825 | J4: ✓ | M4: متاحة | O4: 221 | P4: 100753.9 | Q4: 25188.48
A5: المنيا الجديدة | B5: منطقة 1360 فدان بالامتداد | C5: المجاورة الرابعة بالحى الأول | D5: المجاورة الرابعة بالحى الأول | E5: 2 | F5: 461.3 | G5: =O5/$T$2 -> 4.0856031 | H5: =P5/$T$2 -> 1884.6887 | I5: =Q5/$T$2 -> 471.17218 | M5: متاحة | O5: 210 | P5: 96873 | Q5: 24218.25
A6: المنيا الجديدة | B6: منطقة 1360 فدان بالامتداد | C6: المجاورة الرابعة بالحى الأول | D6: المجاورة الرابعة بالحى الأول | E6: 3 | F6: 461.3 | G6: =O6/$T$2 -> 4.0856031 | H6: =P6/$T$2 -> 1884.6887 | I6: =Q6/$T$2 -> 471.17218 | M6: متاحة | O6: 210 | P6: 96873 | Q6: 24218.25
A7: المنيا الجديدة | B7: منطقة 1360 فدان بالامتداد | C7: المجاورة الرابعة بالحى الأول | D7: المجاورة الرابعة بالحى الأول | E7: 4 | F7: 461.3 | G7: =O7/$T$2 -> 4.0856031 | H7: =P7/$T$2 -> 1884.6887 | I7: =Q7/$T$2 -> 471.17218 | M7: متاحة | O7: 210 | P7: 96873 | Q7: 24218.25
A8: المنيا الجديدة | B8: منطقة 1360 فدان بالامتداد | C8: المجاورة الرابعة بالحى الأول | D8: المجاورة الرابعة بالحى الأول | E8: 5 | F8: 461.3 | G8: =O8/$T$2 -> 4.2996109 | H8: =P8/$T$2 -> 1983.4105 | I8: =Q8/$T$2 -> 495.85272 | J8: ✓ | M8: متاحة | O8: 221 | P8: 101947.3 | Q8: 25486.83
A9: المنيا الجديدة | B9: منطقة 1360 فدان بالامتداد | C9: المجاورة الرابعة بالحى الأول | D9: المجاورة الرابعة بالحى الأول | E9: 6 | F9: 461.3 | G9: =O9/$T$2 -> 4.2996109 | H9: =P9/$T$2 -> 1983.4105 | I9: =Q9/$T$2 -> 495.85272 | J9: ✓ | M9: متاحة | O9: 221 | P9: 101947.3 | Q9: 25486.83
A10: المنيا الجديدة | B10: منطقة 1360 فدان بالامتداد | C10: المجاورة الرابعة بالحى الأول | D10: المجاورة الرابعة بالحى الأول | E10: 7 | F10: 461.3 | G10: =O10/$T$2 -> 4.0856031 | H10: =P10/$T$2 -> 1884.6887 | I10: =Q10/$T$2 -> 471.17218 | M10: متاحة | O10: 210 | P10: 96873 | Q10: 24218.25
A11: المنيا الجديدة | B11: منطقة 1360 فدان بالامتداد | C11: المجاورة الرابعة بالحى الأول | D11: المجاورة الرابعة بالحى الأول | E11: 8 | F11: 461.3 | G11: =O11/$T$2 -> 4.0856031 | H11: =P11/$T$2 -> 1884.6887 | I11: =Q11/$T$2 -> 471.17218 | M11: متاحة | O11: 210 | P11: 96873 | Q11: 24218.25
A12: المنيا الجديدة | B12: منطقة 1360 فدان بالامتداد | C12: المجاورة الرابعة بالحى الأول | D12: المجاورة الرابعة بالحى الأول | E12: 9 | F12: 461.3 | G12: =O12/$T$2 -> 4.0856031 | H12: =P12/$T$2 -> 1884.6887 | I12: =Q12/$T$2 -> 471.17218 | M12: متاحة | O12: 210 | P12: 96873 | Q12: 24218.25
A13: المنيا الجديدة | B13: منطقة 1360 فدان بالامتداد | C13: المجاورة الرابعة بالحى الأول | D13: المجاورة الرابعة بالحى الأول | E13: 10 | F13: 455.9 | G13: =O13/$T$2 -> 4.5136187 | H13: =P13/$T$2 -> 2057.7588 | I13: =Q13/$T$2 -> 514.43969 | J13: ✓ | K13: ✓ | M13: متاحة | O13: 232 | P13: 105768.8 | Q13: 26442.2
A14: المنيا الجديدة | B14: منطقة 1360 فدان بالامتداد | C14: المجاورة الرابعة بالحى الأول | D14: المجاورة الرابعة بالحى الأول | E14: 11 | F14: 455.9 | G14: =O14/$T$2 -> 4.5136187 | H14: =P14/$T$2 -> 2057.7588 | I14: =Q14/$T$2 -> 514.43969 | J14: ✓ | K14: ✓ | M14: متاحة | O14: 232 | P14: 105768.8 | Q14: 26442.2
A15: المنيا الجديدة | B15: منطقة 1360 فدان بالامتداد | C15: المجاورة الرابعة بالحى الأول | D15: المجاورة الرابعة بالحى الأول | E15: 12 | F15: 461.3 | G15: =O15/$T$2 -> 4.0856031 | H15: =P15/$T$2 -> 1884.6887 | I15: =Q15/$T$2 -> 471.17218 | M15: متاحة | O15: 210 | P15: 96873 | Q15: 24218.25
A16: المنيا الجديدة | B16: منطقة 1360 فدان بالامتداد | C16: المجاورة الرابعة بالحى الأول | D16: المجاورة الرابعة بالحى الأول | E16: 13 | F16: 461.3 | G16: =O16/$T$2 -> 4.0856031 | H16: =P16/$T$2 -> 1884.6887 | I16: =Q16/$T$2 -> 471.17218 | M16: متاحة | O16: 210 | P16: 96873 | Q16: 24218.25
A17: المنيا الجديدة | B17: منطقة 1360 فدان بالامتداد | C17: المجاورة الرابعة بالحى الأول | D17: المجاورة الرابعة بالحى الأول | E17: 14 | F17: 461.3 | G17: =O17/$T$2 -> 4.0856031 | H17: =P17/$T$2 -> 1884.6887 | I17: =Q17/$T$2 -> 471.17218 | M17: متاحة | O17: 210 | P17: 96873 | Q17: 24218.25
A18: المنيا الجديدة | B18: منطقة 1360 فدان بالامتداد | C18: المجاورة الرابعة بالحى الأول | D18: المجاورة الرابعة بالحى الأول | E18: 15 | F18: 461.3 | G18: =O18/$T$2 -> 4.2996109 | H18: =P18/$T$2 -> 1983.4105 | I18: =Q18/$T$2 -> 495.85272 | J18: ✓ | M18: متاحة | O18: 221 | P18: 101947.3 | Q18: 25486.83
A19: المنيا الجديدة | B19: منطقة 1360 فدان بالامتداد | C19: المجاورة الرابعة بالحى الأول | D19: المجاورة الرابعة بالحى الأول | E19: 16 | F19: 461.3 | G19: =O19/$T$2 -> 4.2996109 | H19: =P19/$T$2 -> 1983.4105 | I19: =Q19/$T$2 -> 495.85272 | J19: ✓ | M19: متاحة | O19: 221 | P19: 101947.3 | Q19: 25486.83
A20: المنيا الجديدة | B20: منطقة 1360 فدان بالامتداد | C20: المجاورة الرابعة بالحى الأول | D20: المجاورة الرابعة بالحى الأول | E20: 17 | F20: 461.3 | G20: =O20/$T$2 -> 4.0856031 | H20: =P20/$T$2 -> 1884.6887 | I20: =Q20/$T$2 -> 471.17218 | M20: متاحة | O20: 210 | P20: 96873 | Q20: 24218.25
A21: المنيا الجديدة | B21: منطقة 1360 فدان بالامتداد | C21: المجاورة الرابعة بالحى الأول | D21: المجاورة الرابعة بالحى الأول | E21: 18 | F21: 461.3 | G21: =O21/$T$2 -> 4.0856031 | H21: =P21/$T$2 -> 1884.6887 | I21: =Q21/$T$2 -> 471.17218 | M21: متاحة | O21: 210 | P21: 96873 | Q21: 24218.25
A22: المنيا الجديدة | B22: منطقة 1360 فدان بالامتداد | C22: المجاورة الرابعة بالحى الأول | D22: المجاورة الرابعة بالحى الأول | E22: 19 | F22: 461.3 | G22: =O22/$T$2 -> 4.0856031 | H22: =P22/$T$2 -> 1884.6887 | I22: =Q22/$T$2 -> 471.17218 | M22: متاحة | O22: 210 | P22: 96873 | Q22: 24218.25
A23: المنيا الجديدة | B23: منطقة 1360 فدان بالامتداد | C23: المجاورة الرابعة بالحى الأول | D23: المجاورة الرابعة بالحى الأول | E23: 20 | F23: 455.9 | G23: =O23/$T$2 -> 4.2996109 | H23: =P23/$T$2 -> 1960.1926 | I23: =Q23/$T$2 -> 490.04825 | J23: ✓ | M23: متاحة | O23: 221 | P23: 100753.9 | Q23: 25188.48
A24: المنيا الجديدة | B24: منطقة 1360 فدان بالامتداد | C24: المجاورة الرابعة بالحى الأول | D24: المجاورة الرابعة بالحى الأول | E24: 21 | F24: 461.3 | G24: =O24/$T$2 -> 4.5136187 | H24: =P24/$T$2 -> 2082.1323 | I24: =Q24/$T$2 -> 520.53307 | J24: ✓ | K24: ✓ | M24: متاحة | O24: 232 | P24: 107021.6 | Q24: 26755.4
A25: المنيا الجديدة | B25: منطقة 1360 فدان بالامتداد | C25: المجاورة الرابعة بالحى الأول | D25: المجاورة الرابعة بالحى الأول | E25: 22 | F25: 461.3 | G25: =O25/$T$2 -> 4.0856031 | H25: =P25/$T$2 -> 1884.6887 | I25: =Q25/$T$2 -> 471.17218 | M25: متاحة | O25: 210 | P25: 96873 | Q25: 24218.25
A26: المنيا الجديدة | B26: منطقة 1360 فدان بالامتداد | C26: المجاورة الرابعة بالحى الأول | D26: المجاورة الرابعة بالحى الأول | E26: 23 | F26: 461.3 | G26: =O26/$T$2 -> 4.2996109 | H26: =P26/$T$2 -> 1983.4105 | I26: =Q26/$T$2 -> 495.85272 | J26: ✓ | M26: متاحة | O26: 221 | P26: 101947.3 | Q26: 25486.83
A27: المنيا الجديدة | B27: منطقة 1360 فدان بالامتداد | C27: المجاورة الرابعة بالحى الأول | D27: المجاورة الرابعة بالحى الأول | E27: 24 | F27: 461.3 | G27: =O27/$T$2 -> 4.2996109 | H27: =P27/$T$2 -> 1983.4105 | I27: =Q27/$T$2 -> 495.85272 | J27: ✓ | M27: متاحة | O27: 221 | P27: 101947.3 | Q27: 25486.83
A28: المنيا الجديدة | B28: منطقة 1360 فدان بالامتداد | C28: المجاورة الرابعة بالحى الأول | D28: المجاورة الرابعة بالحى الأول | E28: 25 | F28: 461.3 | G28: =O28/$T$2 -> 4.0856031 | H28: =P28/$T$2 -> 1884.6887 | I28: =Q28/$T$2 -> 471.17218 | M28: متاحة | O28: 210 | P28: 96873 | Q28: 24218.25
A29: المنيا الجديدة | B29: منطقة 1360 فدان بالامتداد | C29: المجاورة الرابعة بالحى الأول | D29: المجاورة الرابعة بالحى الأول | E29: 26 | F29: 461.3 | G29: =O29/$T$2 -> 4.0856031 | H29: =P29/$T$2 -> 1884.6887 | I29: =Q29/$T$2 -> 471.17218 | M29: متاحة | O29: 210 | P29: 96873 | Q29: 24218.25
A30: المنيا الجديدة | B30: منطقة 1360 فدان بالامتداد | C30: المجاورة الرابعة بالحى الأول | D30: المجاورة الرابعة بالحى الأول | E30: 27 | F30: 427.6 | G30: =O30/$T$2 -> 4.2996109 | H30: =P30/$T$2 -> 1838.5136 | I30: =Q30/$T$2 -> 459.6284 | J30: ✓ | M30: متاحة | O30: 221 | P30: 94499.6 | Q30: 23624.9
A31: المنيا الجديدة | B31: منطقة 1360 فدان بالامتداد | C31: المجاورة الرابعة بالحى الأول | D31: المجاورة الرابعة بالحى الأول | E31: 28 | F31: 461.3 | G31: =O31/$T$2 -> 4.2996109 | H31: =P31/$T$2 -> 1983.4105 | I31: =Q31/$T$2 -> 495.85272 | J31: ✓ | M31: متاحة | O31: 221 | P31: 101947.3 | Q31: 25486.83
A32: المنيا الجديدة | B32: منطقة 1360 فدان بالامتداد | C32: المجاورة الرابعة بالحى الأول | D32: المجاورة الرابعة بالحى الأول | E32: 29 | F32: 461.3 | G32: =O32/$T$2 -> 4.0856031 | H32: =P32/$T$2 -> 1884.6887 | I32: =Q32/$T$2 -> 471.17218 | M32: متاحة | O32: 210 | P32: 96873 | Q32: 24218.25
A33: المنيا الجديدة | B33: منطقة 1360 فدان بالامتداد | C33: المجاورة الرابعة بالحى الأول | D33: المجاورة الرابعة بالحى الأول | E33: 30 | F33: 461.3 | G33: =O33/$T$2 -> 4.2996109 | H33: =P33/$T$2 -> 1983.4105 | I33: =Q33/$T$2 -> 495.85272 | K33: ✓ | M33: متاحة | O33: 221 | P33: 101947.3 | Q33: 25486.83
A34: المنيا الجديدة | B34: منطقة 1360 فدان بالامتداد | C34: المجاورة الرابعة بالحى الأول | D34: المجاورة الرابعة بالحى الأول | E34: 31 | F34: 461.3 | G34: =O34/$T$2 -> 4.5136187 | H34: =P34/$T$2 -> 2082.1323 | I34: =Q34/$T$2 -> 520.53307 | J34: ✓ | K34: ✓ | M34: متاحة | O34: 232 | P34: 107021.6 | Q34: 26755.4
A35: المنيا الجديدة | B35: منطقة 1360 فدان بالامتداد | C35: المجاورة الرابعة بالحى الأول | D35: المجاورة الرابعة بالحى الأول | E35: 32 | F35: 461.3 | G35: =O35/$T$2 -> 4.2996109 | H35: =P35/$T$2 -> 1983.4105 | I35: =Q35/$T$2 -> 495.85272 | J35: ✓ | M35: متاحة | O35: 221 | P35: 101947.3 | Q35: 25486.83
A36: المنيا الجديدة | B36: منطقة 1360 فدان بالامتداد | C36: المجاورة الرابعة بالحى الأول | D36: المجاورة الرابعة بالحى الأول | E36: 33 | F36: 461.3 | G36: =O36/$T$2 -> 4.0856031 | H36: =P36/$T$2 -> 1884.6887 | I36: =Q36/$T$2 -> 471.17218 | M36: متاحة | O36: 210 | P36: 96873 | Q36: 24218.25
A37: المنيا الجديدة | B37: منطقة 1360 فدان بالامتداد | C37: المجاورة الرابعة بالحى الأول | D37: المجاورة الرابعة بالحى الأول | E37: 34 | F37: 461.3 | G37: =O37/$T$2 -> 4.5136187 | H37: =P37/$T$2 -> 2082.1323 | I37: =Q37/$T$2 -> 520.53307 | J37: ✓ | K37: ✓ | M37: متاحة | O37: 232 | P37: 107021.6 | Q37: 26755.4
A38: المنيا الجديدة | B38: منطقة 1360 فدان بالامتداد | C38: المجاورة الرابعة بالحى الأول | D38: المجاورة الرابعة بالحى الأول | E38: 35 | F38: 461.3 | G38: =O38/$T$2 -> 4.2996109 | H38: =P38/$T$2 -> 1983.4105 | I38: =Q38/$T$2 -> 495.85272 | J38: ✓ | M38: متاحة | O38: 221 | P38: 101947.3 | Q38: 25486.83
A39: المنيا الجديدة | B39: منطقة 1360 فدان بالامتداد | C39: المجاورة الرابعة بالحى الأول | D39: المجاورة الرابعة بالحى الأول | E39: 36 | F39: 461.3 | G39: =O39/$T$2 -> 4.0856031 | H39: =P39/$T$2 -> 1884.6887 | I39: =Q39/$T$2 -> 471.17218 | M39: متاحة | O39: 210 | P39: 96873 | Q39: 24218.25
A40: المنيا الجديدة | B40: منطقة 1360 فدان بالامتداد | C40: المجاورة الرابعة بالحى الأول | D40: المجاورة الرابعة بالحى الأول | E40: 37 | F40: 461.3 | G40: =O40/$T$2 -> 4.0856031 | H40: =P40/$T$2 -> 1884.6887 | I40: =Q40/$T$2 -> 471.17218 | M40: متاحة | O40: 210 | P40: 96873 | Q40: 24218.25
...

Sheet لوحة التحكم
A1: 📊 لوحة تحكم بيانات القطع
A2: آخر تحديث: 2026/09/10 | سعر الصرف: 1$ = 51.40 ج.م
A5: إجمالي عدد القطع | D5: عدد المدن
A6: =COUNTA('بيانات القطع'!E4:E15541) -> 15538 | D6: =SUMPRODUCT(('بيانات القطع'!A4:A15541<>"")/COUNTIF('بيانات القطع'!A4:A15541,'بيانات القطع'!A4:A15541&"")) -> 25
A10: عدد المشاريع | D10: إجمالي قيمة القطع ($)
A11: =SUMPRODUCT(('بيانات القطع'!B4:B15541<>"")/COUNTIF('بيانات القطع'!B4:B15541,'بيانات القطع'!B4:B15541&"")) -> 63 | D11: =SUM('بيانات القطع'!H4:H15541) -> 35245414
A15: أصغر مساحة قطعة (م²) | D15: أكبر مساحة قطعة (م²)
A16: =MIN('بيانات القطع'!F4:F15541) -> 162 | D16: =MAX('بيانات القطع'!F4:F15541) -> 1433.6
A20: أقل سعر قطعة ($) | D20: أعلى سعر قطعة ($)
A21: =MIN('بيانات القطع'!H4:H15541) -> 609.28016 | D21: =MAX('بيانات القطع'!H4:H15541) -> 15061.167
A25: ملخص القطع حسب المدينة
A26: المدينة | B26: عدد القطع | C26: أقل مساحة قطعة (م²) | D26: أكبر مساحة قطعة (م²) | E26: أقل سعر قطعة ($) | F26: أعلى سعر قطعة ($) | G26: عدد المتاحة
A27: 15 مايو | B27: =COUNTIF('بيانات القطع'!$A$4:$A$15541,A27) -> 201 | C27: {=MIN(IF('بيانات القطع'!$A$4:$A$15541=A27,'بيانات القطع'!$F$4:$F$15541))} -> 463.4 | D27: {=MAX(IF('بيانات القطع'!$A$4:$A$15541=A27,'بيانات القطع'!$F$4:$F$15541))} -> 887.1 | E27: {=MIN(IF('بيانات القطع'!$A$4:$A$15541=A27,'بيانات القطع'!$H$4:$H$15541))} -> 3414.3969 | F27: {=MAX(IF('بيانات القطع'!$A$4:$A$15541=A27,'بيانات القطع'!$H$4:$H$15541))} -> 5988.7879 | G27: =COUNTIFS('بيانات القطع'!$A$4:$A$15541,A27,'بيانات القطع'!$M$4:$M$15541,"متاحة") -> 201
A28: أخميم الجديدة | B28: =COUNTIF('بيانات القطع'!$A$4:$A$15541,A28) -> 253 | C28: {=MIN(IF('بيانات القطع'!$A$4:$A$15541=A28,'بيانات القطع'!$F$4:$F$15541))} -> 429 | D28: {=MAX(IF('بيانات القطع'!$A$4:$A$15541=A28,'بيانات القطع'!$F$4:$F$15541))} -> 633 | E28: {=MIN(IF('بيانات القطع'!$A$4:$A$15541=A28,'بيانات القطع'!$H$4:$H$15541))} -> 609.28016 | F28: {=MAX(IF('بيانات القطع'!$A$4:$A$15541=A28,'بيانات القطع'!$H$4:$H$15541))} -> 899.00778 | G28: =COUNTIFS('بيانات القطع'!$A$4:$A$15541,A28,'بيانات القطع'!$M$4:$M$15541,"متاحة") -> 253
A29: أسوان الجديدة | B29: =COUNTIF('بيانات القطع'!$A$4:$A$15541,A29) -> 147 | C29: {=MIN(IF('بيانات القطع'!$A$4:$A$15541=A29,'بيانات القطع'!$F$4:$F$15541))} -> 458.8 | D29: {=MAX(IF('بيانات القطع'!$A$4:$A$15541=A29,'بيانات القطع'!$F$4:$F$15541))} -> 692.8 | E29: {=MIN(IF('بيانات القطع'!$A$4:$A$15541=A29,'بيانات القطع'!$H$4:$H$15541))} -> 1008.1907 | F29: {=MAX(IF('بيانات القطع'!$A$4:$A$15541=A29,'بيانات القطع'!$H$4:$H$15541))} -> 1563.5175 | G29: =COUNTIFS('بيانات القطع'!$A$4:$A$15541,A29,'بيانات القطع'!$M$4:$M$15541,"متاحة") -> 147
A30: أسيوط الجديدة | B30: =COUNTIF('بيانات القطع'!$A$4:$A$15541,A30) -> 945 | C30: {=MIN(IF('بيانات القطع'!$A$4:$A$15541=A30,'بيانات القطع'!$F$4:$F$15541))} -> 363.3 | D30: {=MAX(IF('بيانات القطع'!$A$4:$A$15541=A30,'بيانات القطع'!$F$4:$F$15541))} -> 1080 | E30: {=MIN(IF('بيانات القطع'!$A$4:$A$15541=A30,'بيانات القطع'!$H$4:$H$15541))} -> 663.15175 | F30: {=MAX(IF('بيانات القطع'!$A$4:$A$15541=A30,'بيانات القطع'!$H$4:$H$15541))} -> 2134.2607 | G30: =COUNTIFS('بيانات القطع'!$A$4:$A$15541,A30,'بيانات القطع'!$M$4:$M$15541,"متاحة") -> 945
A31: أكتوبر الجديدة | B31: =COUNTIF('بيانات القطع'!$A$4:$A$15541,A31) -> 1409 | C31: {=MIN(IF('بيانات القطع'!$A$4:$A$15541=A31,'بيانات القطع'!$F$4:$F$15541))} -> 441.2 | D31: {=MAX(IF('بيانات القطع'!$A$4:$A$15541=A31,'بيانات القطع'!$F$4:$F$15541))} -> 836.3 | E31: {=MIN(IF('بيانات القطع'!$A$4:$A$15541=A31,'بيانات القطع'!$H$4:$H$15541))} -> 1356.2179 | F31: {=MAX(IF('بيانات القطع'!$A$4:$A$15541=A31,'بيانات القطع'!$H$4:$H$15541))} -> 2570.7276 | G31: =COUNTIFS('بيانات القطع'!$A$4:$A$15541,A31,'بيانات القطع'!$M$4:$M$15541,"متاحة") -> 1409
A32: السادات | B32: =COUNTIF('بيانات القطع'!$A$4:$A$15541,A32) -> 2273 | C32: {=MIN(IF('بيانات القطع'!$A$4:$A$15541=A32,'بيانات القطع'!$F$4:$F$15541))} -> 445 | D32: {=MAX(IF('بيانات القطع'!$A$4:$A$15541=A32,'بيانات القطع'!$F$4:$F$15541))} -> 1260 | E32: {=MIN(IF('بيانات القطع'!$A$4:$A$15541=A32,'بيانات القطع'!$H$4:$H$15541))} -> 1695.8171 | F32: {=MAX(IF('بيانات القطع'!$A$4:$A$15541=A32,'بيانات القطع'!$H$4:$H$15541))} -> 5025.2918 | G32: =COUNTIFS('بيانات القطع'!$A$4:$A$15541,A32,'بيانات القطع'!$M$4:$M$15541,"متاحة") -> 2273
A33: السادس من أكتوبر | B33: =COUNTIF('بيانات القطع'!$A$4:$A$15541,A33) -> 688 | C33: {=MIN(IF('بيانات القطع'!$A$4:$A$15541=A33,'بيانات القطع'!$F$4:$F$15541))} -> 371.3 | D33: {=MAX(IF('بيانات القطع'!$A$4:$A$15541=A33,'بيانات القطع'!$F$4:$F$15541))} -> 809 | E33: {=MIN(IF('بيانات القطع'!$A$4:$A$15541=A33,'بيانات القطع'!$H$4:$H$15541))} -> 1403.8949 | F33: {=MAX(IF('بيانات القطع'!$A$4:$A$15541=A33,'بيانات القطع'!$H$4:$H$15541))} -> 3244.3774 | G33: =COUNTIFS('بيانات القطع'!$A$4:$A$15541,A33,'بيانات القطع'!$M$4:$M$15541,"متاحة") -> 688
A34: الشروق | B34: =COUNTIF('بيانات القطع'!$A$4:$A$15541,A34) -> 193 | C34: {=MIN(IF('بيانات القطع'!$A$4:$A$15541=A34,'بيانات القطع'!$F$4:$F$15541))} -> 426.8 | D34: {=MAX(IF('بيانات القطع'!$A$4:$A$15541=A34,'بيانات القطع'!$F$4:$F$15541))} -> 788.7 | E34: {=MIN(IF('بيانات القطع'!$A$4:$A$15541=A34,'بيانات القطع'!$H$4:$H$15541))} -> 4775.8074 | F34: {=MAX(IF('بيانات القطع'!$A$4:$A$15541=A34,'بيانات القطع'!$H$4:$H$15541))} -> 8945.7607 | G34: =COUNTIFS('بيانات القطع'!$A$4:$A$15541,A34,'بيانات القطع'!$M$4:$M$15541,"متاحة") -> 193
A35: الشيخ زايد | B35: =COUNTIF('بيانات القطع'!$A$4:$A$15541,A35) -> 29 | C35: {=MIN(IF('بيانات القطع'!$A$4:$A$15541=A35,'بيانات القطع'!$F$4:$F$15541))} -> 442 | D35: {=MAX(IF('بيانات القطع'!$A$4:$A$15541=A35,'بيانات القطع'!$F$4:$F$15541))} -> 1069.87 | E35: {=MIN(IF('بيانات القطع'!$A$4:$A$15541=A35,'بيانات القطع'!$H$4:$H$15541))} -> 3975.3035 | F35: {=MAX(IF('بيانات القطع'!$A$4:$A$15541=A35,'بيانات القطع'!$H$4:$H$15541))} -> 10324.037 | G35: =COUNTIFS('بيانات القطع'!$A$4:$A$15541,A35,'بيانات القطع'!$M$4:$M$15541,"متاحة") -> 29
A36: العاشر من رمضان | B36: =COUNTIF('بيانات القطع'!$A$4:$A$15541,A36) -> 619 | C36: {=MIN(IF('بيانات القطع'!$A$4:$A$15541=A36,'بيانات القطع'!$F$4:$F$15541))} -> 428.1 | D36: {=MAX(IF('بيانات القطع'!$A$4:$A$15541=A36,'بيانات القطع'!$F$4:$F$15541))} -> 1413 | E36: {=MIN(IF('بيانات القطع'!$A$4:$A$15541=A36,'بيانات القطع'!$H$4:$H$15541))} -> 2040.5545 | F36: {=MAX(IF('بيانات القطع'!$A$4:$A$15541=A36,'بيانات القطع'!$H$4:$H$15541))} -> 5360.6031 | G36: =COUNTIFS('بيانات القطع'!$A$4:$A$15541,A36,'بيانات القطع'!$M$4:$M$15541,"متاحة") -> 619
A37: العبور | B37: =COUNTIF('بيانات القطع'!$A$4:$A$15541,A37) -> 10 | C37: {=MIN(IF('بيانات القطع'!$A$4:$A$15541=A37,'بيانات القطع'!$F$4:$F$15541))} -> 598 | D37: {=MAX(IF('بيانات القطع'!$A$4:$A$15541=A37,'بيانات القطع'!$F$4:$F$15541))} -> 600 | E37: {=MIN(IF('بيانات القطع'!$A$4:$A$15541=A37,'بيانات القطع'!$H$4:$H$15541))} -> 3013.2685 | F37: {=MAX(IF('بيانات القطع'!$A$4:$A$15541=A37,'بيانات القطع'!$H$4:$H$15541))} -> 3023.3463 | G37: =COUNTIFS('بيانات القطع'!$A$4:$A$15541,A37,'بيانات القطع'!$M$4:$M$15541,"متاحة") -> 10
A38: العبور الجديدة | B38: =COUNTIF('بيانات القطع'!$A$4:$A$15541,A38) -> 1060 | C38: {=MIN(IF('بيانات القطع'!$A$4:$A$15541=A38,'بيانات القطع'!$F$4:$F$15541))} -> 428 | D38: {=MAX(IF('بيانات القطع'!$A$4:$A$15541=A38,'بيانات القطع'!$F$4:$F$15541))} -> 749.3 | E38: {=MIN(IF('بيانات القطع'!$A$4:$A$15541=A38,'بيانات القطع'!$H$4:$H$15541))} -> 1597.2568 | F38: {=MAX(IF('بيانات القطع'!$A$4:$A$15541=A38,'بيانات القطع'!$H$4:$H$15541))} -> 2915.5642 | G38: =COUNTIFS('بيانات القطع'!$A$4:$A$15541,A38,'بيانات القطع'!$M$4:$M$15541,"متاحة") -> 1060
... A51: سوهاج الجديدة | B51: =COUNTIF('بيانات القطع'!$A$4:$A$15541,A51) -> 433 | C51: {=MIN(IF('بيانات القطع'!$A$4:$A$15541=A51,'بيانات القطع'!$F$4:$F$15541))} -> 394.4 | D51: {=MAX(IF('بيانات القطع'!$A$4:$A$15541=A51,'بيانات القطع'!$F$4:$F$15541))} -> 874.4 | E51: {=MIN(IF('بيانات القطع'!$A$4:$A$15541=A51,'بيانات القطع'!$H$4:$H$15541))} -> 1250.7237 | F51: {=MAX(IF('بيانات القطع'!$A$4:$A$15541=A51,'بيانات القطع'!$H$4:$H$15541))} -> 2908.9961 | G51: =COUNTIFS('بيانات القطع'!$A$4:$A$15541,A51,'بيانات القطع'!$M$4:$M$15541,"متاحة") -> 433
A54: عدد القطع حسب المدينة
