Workbook

Sheet بيانات القطع
A1: 🏛️ بيانات القطع الكاملة | S1: ⚙ إعداد سعر الصرف
A2: تاريخ التصدير: 2026/09/10 | إجمالي القطع: 15,538 | المتاحة: 15,538 | المحجوزة: 0 | الأسعار بالدولار الأمريكي وفق سعر صرف 1$ = 51.40 ج.م | S2: 1 دولار = كام جنيه | T2: 51.4
A3: المدينة | B3: المشروع | C3: المنطقة | D3: المربع | E3: رقم القطعة | F3: المساحة م² | G3: سعر المتر ($) | H3: إجمالى السعر ($) | I3: المقدم ($) | J3: ناصية | K3: حديقة | L3: بحر/نيل | M3: الحالة | N3: تاريخ الحجز | O3: سعر المتر (ج.م) - مصدر | P3: إجمالى السعر (ج.م) - مصدر | Q3: المقدم (ج.م) - مصدر | S3: غيّر الرقم ده وكل الأسعار بالدولار هتتحدث تلقائي
A4: المنيا الجديدة | B4: منطقة 1360 فدان بالامتداد | C4: المجاورة الرابعة بالحى الأول | D4: المجاورة الرابعة بالحى الأول | E4: 1 | F4: 455.9 | G4: =O4/$T$2 -> 4.2996109 | H4: =P4/$T$2 -> 1960.1926 | I4: =Q4/$T$2 -> 490.04825 | J4: ✓ | M4: متاحة | O4: 221 | P4: 100753.9 | Q4: 25188.48
A5: المنيا الجديدة | B5: منطقة 1360 فدان بالامتداد | C5: المجاورة الرابعة بالحى الأول | D5: المجاورة الرابعة بالحى الأول | E5: 2 | F5: 461.3 | G5: =O5/$T$2 -> 4.0856031 | H5: =P5/$T$2 -> 1884.6887 | I5: =Q5/$T$2 -> 471.17218 | M5: متاحة | O5: 210 | P5: 96873 | Q5: 24218.25
A6: المنيا الجديدة | B6: منطقة 1360 فدان بالامتداد | C6: المجاورة الرابعة بالحى الأول | D6: المجاورة الرابعة بالحى الأول | E6: 3 | F6: 461.3 | G6: =O6/$T$2 -> 4.0856031 | H6: =P6/$T$2 -> 1884.6887 | I6: =Q6/$T$2 -> 471.17218 | M6: متاحة | O6: 210 | P6: 96873 | Q6: 24218.25
A7: المنيا الجديدة | B7: منطقة 1360 فدان بالامتداد | C7: المجاورة الرابعة بالحى الأول | D7: المجاورة الرابعة بالحى الأول | E7: 4 | F7: 461.3 | G7: =O7/$T$2 -> 4.0856031 | H7: =P7/$T$2 -> 1884.6887 | I7: =Q7/$T$2 -> 471.17218 | M7: متاحة | O7: 210 | P7: 96873 | Q7: 24218.25
A8: المنيا الجديدة | B8: منطقة 1360 فدان بالامتداد | C8: المجاورة الرابعة بالحى الأول | D8: المجاورة الرابعة بالحى الأول | E8: 5 | F8: 461.3 | G8: =O8/$T$2 -> 4.2996109 | H8: =P8/$T$2 -> 1983.4105 | I8: =Q8/$T$2 -> 495.85272 | J8: ✓ | M8: متاحة | O8: 221 | P8: 101947.3 | Q8: 25486.83
A9: المنيا الجديدة | B9: منطقة 1360 فدان بالامتداد | C9: المجاورة الرابعة بالحى الأول | D9: المجاورة الرابعة بالحى الأول | E9: 6 | F9: 461.3 | G9: =O9/$T$2 -> 4.2996109 | H9: =P9/$T$2 -> 1983.4105 | I9: =Q9/$T$2 -> 495.85272 | J9: ✓ | M9: متاحة | O9: 221 | P9: 101947.3 | Q9: 25486.83
A10: المنيا الجديدة | B10: منطقة 1360 فدان بالامتداد | C10: المجاورة الرابعة بالحى الأول | D10: المجاورة الرابعة بالحى الأول | E10: 7 | F10: 461.3 | G10: =O10/$T$2 -> 4.0856031 | H10: =P10/$T$2 -> 1884.6887 | I10: =Q10/$T$2 -> 471.17218 | M10: متاحة | O10: 210 | P10: 96873 | Q10: 24218.25
A11: المنيا الجديدة | B11: منطقة 1360 فدان بالامتداد | C11: المجاورة الرابعة بالحى الأول | D11: المجاورة الرابعة بالحى الأول | E11: 8 | F11: 461.3 | G11: =O11/$T$2 -> 4.0856031 | H11: =P11/$T$2 -> 1884.6887 | I11: =Q11/$T$2 -> 471.17218 | M11: متاحة | O11: 210 | P11: 96873 | Q11: 24218.25
A12: المنيا الجديدة | B12: منطقة 1360 فدان بالامتداد | C12: المجاورة الرابعة بالحى الأول | D12: المجاورة الرابعة بالحى الأول | E12: 9 | F12: 461.3 | G12: =O12/$T$2 -> 4.0856031 | H12: =P12/$T$2 -> 1884.6887 | I12: =Q12/$T$2 -> 471.17218 | M12: متاحة | O12: 210 | P12: 96873 | Q12: 24218.25
A13: المنيا الجديدة | B13: منطقة 1360 فدان بالامتداد | C13: المجاورة الرابعة بالحى الأول | D13: المجاورة الرابعة بالحى الأول | E13: 10 | F13: 455.9 | G13: =O13/$T$2 -> 4.5136187 | H13: =P13/$T$2 -> 2057.7588 | I13: =Q13/$T$2 -> 514.43969 | J13: ✓ | K13: ✓ | M13: متاحة | O13: 232 | P13: 105768.8 | Q13: 26442.2
A14: المنيا الجديدة | B14: منطقة 1360 فدان بالامتداد | C14: المجاورة الرابعة بالحى الأول | D14: المجاورة الرابعة بالحى الأول | E14: 11 | F14: 455.9 | G14: =O14/$T$2 -> 4.5136187 | H14: =P14/$T$2 -> 2057.7588 | I14: =Q14/$T$2 -> 514.43969 | J14: ✓ | K14: ✓ | M14: متاحة | O14: 232 | P14: 105768.8 | Q14: 26442.2
A15: المنيا الجديدة | B15: منطقة 1360 فدان بالامتداد | C15: المجاورة الرابعة بالحى الأول | D15: المجاورة الرابعة بالحى الأول | E15: 12 | F15: 461.3 | G15: =O15/$T$2 -> 4.0856031 | H15: =P15/$T$2 -> 1884.6887 | I15: =Q15/$T$2 -> 471.17218 | M15: متاحة | O15: 210 | P15: 96873 | Q15: 24218.25
A16: المنيا الجديدة | B16: منطقة 1360 فدان بالامتداد | C16: المجاورة الرابعة بالحى الأول | D16: المجاورة الرابعة بالحى الأول | E16: 13 | F16: 461.3 | G16: =O16/$T$2 -> 4.0856031 | H16: =P16/$T$2 -> 1884.6887 | I16: =Q16/$T$2 -> 471.17218 | M16: متاحة | O16: 210 | P16: 96873 | Q16: 24218.25
A17: المنيا الجديدة | B17: منطقة 1360 فدان بالامتداد | C17: المجاورة الرابعة بالحى الأول | D17: المجاورة الرابعة بالحى الأول | E17: 14 | F17: 461.3 | G17: =O17/$T$2 -> 4.0856031 | H17: =P17/$T$2 -> 1884.6887 | I17: =Q17/$T$2 -> 471.17218 | M17: متاحة | O17: 210 | P17: 96873 | Q17: 24218.25
A18: المنيا الجديدة | B18: منطقة 1360 فدان بالامتداد | C18: المجاورة الرابعة بالحى الأول | D18: المجاورة الرابعة بالحى الأول | E18: 15 | F18: 461.3 | G18: =O18/$T$2 -> 4.2996109 | H18: =P18/$T$2 -> 1983.4105 | I18: =Q18/$T$2 -> 495.85272 | J18: ✓ | M18: متاحة | O18: 221 | P18: 101947.3 | Q18: 25486.83
A19: المنيا الجديدة | B19: منطقة 1360 فدان بالامتداد | C19: المجاورة الرابعة بالحى الأول | D19: المجاورة الرابعة بالحى الأول | E19: 16 | F19: 461.3 | G19: =O19/$T$2 -> 4.2996109 | H19: =P19/$T$2 -> 1983.4105 | I19: =Q19/$T$2 -> 495.85272 | J19: ✓ | M19: متاحة | O19: 221 | P19: 101947.3 | Q19: 25486.83
A20: المنيا الجديدة | B20: منطقة 1360 فدان بالامتداد | C20: المجاورة الرابعة بالحى الأول | D20: المجاورة الرابعة بالحى الأول | E20: 17 | F20: 461.3 | G20: =O20/$T$2 -> 4.0856031 | H20: =P20/$T$2 -> 1884.6887 | I20: =Q20/$T$2 -> 471.17218 | M20: متاحة | O20: 210 | P20: 96873 | Q20: 24218.25
A21: المنيا الجديدة | B21: منطقة 1360 فدان بالامتداد | C21: المجاورة الرابعة بالحى الأول | D21: المجاورة الرابعة بالحى الأول | E21: 18 | F21: 461.3 | G21: =O21/$T$2 -> 4.0856031 | H21: =P21/$T$2 -> 1884.6887 | I21: =Q21/$T$2 -> 471.17218 | M21: متاحة | O21: 210 | P21: 96873 | Q21: 24218.25
A22: المنيا الجديدة | B22: منطقة 1360 فدان بالامتداد | C22: المجاورة الرابعة بالحى الأول | D22: المجاورة الرابعة بالحى الأول | E22: 19 | F22: 461.3 | G22: =O22/$T$2 -> 4.0856031 | H22: =P22/$T$2 -> 1884.6887 | I22: =Q22/$T$2 -> 471.17218 | M22: متاحة | O22: 210 | P22: 96873 | Q22: 24218.25
A23: المنيا الجديدة | B23: منطقة 1360 فدان بالامتداد | C23: المجاورة الرابعة بالحى الأول | D23: المجاورة الرابعة بالحى الأول | E23: 20 | F23: 455.9 | G23: =O23/$T$2 -> 4.2996109 | H23: =P23/$T$2 -> 1960.1926 | I23: =Q23/$T$2 -> 490.04825 | J23: ✓ | M23: متاحة | O23: 221 | P23: 100753.9 | Q23: 25188.48
A24: المنيا الجديدة | B24: منطقة 1360 فدان بالامتداد | C24: المجاورة الرابعة بالحى الأول | D24: المجاورة الرابعة بالحى الأول | E24: 21 | F24: 461.3 | G24: =O24/$T$2 -> 4.5136187 | H24: =P24/$T$2 -> 2082.1323 | I24: =Q24/$T$2 -> 520.53307 | J24: ✓ | K24: ✓ | M24: متاحة | O24: 232 | P24: 107021.6 | Q24: 26755.4
A25: المنيا الجديدة | B25: منطقة 1360 فدان بالامتداد | C25: المجاورة الرابعة بالحى الأول | D25: المجاورة الرابعة بالحى الأول | E25: 22 | F25: 461.3 | G25: =O25/$T$2 -> 4.0856031 | H25: =P25/$T$2 -> 1884.6887 | I25: =Q25/$T$2 -> 471.17218 | M25: متاحة | O25: 210 | P25: 96873 | Q25: 24218.25
A26: المنيا الجديدة | B26: منطقة 1360 فدان بالامتداد | C26: المجاورة الرابعة بالحى الأول | D26: المجاورة الرابعة بالحى الأول | E26: 23 | F26: 461.3 | G26: =O26/$T$2 -> 4.2996109 | H26: =P26/$T$2 -> 1983.4105 | I26: =Q26/$T$2 -> 495.85272 | J26: ✓ | M26: متاحة | O26: 221 | P26: 101947.3 | Q26: 25486.83
A27: المنيا الجديدة | B27: منطقة 1360 فدان بالامتداد | C27: المجاورة الرابعة بالحى الأول | D27: المجاورة الرابعة بالحى الأول | E27: 24 | F27: 461.3 | G27: =O27/$T$2 -> 4.2996109 | H27: =P27/$T$2 -> 1983.4105 | I27: =Q27/$T$2 -> 495.85272 | J27: ✓ | M27: متاحة | O27: 221 | P27: 101947.3 | Q27: 25486.83
A28: المنيا الجديدة | B28: منطقة 1360 فدان بالامتداد | C28: المجاورة الرابعة بالحى الأول | D28: المجاورة الرابعة بالحى الأول | E28: 25 | F28: 461.3 | G28: =O28/$T$2 -> 4.0856031 | H28: =P28/$T$2 -> 1884.6887 | I28: =Q28/$T$2 -> 471.17218 | M28: متاحة | O28: 210 | P28: 96873 | Q28: 24218.25
A29: المنيا الجديدة | B29: منطقة 1360 فدان بالامتداد | C29: المجاورة الرابعة بالحى الأول | D29: المجاورة الرابعة بالحى الأول | E29: 26 | F29: 461.3 | G29: =O29/$T$2 -> 4.0856031 | H29: =P29/$T$2 -> 1884.6887 | I29: =Q29/$T$2 -> 471.17218 | M29: متاحة | O29: 210 | P29: 96873 | Q29: 24218.25
A30: المنيا الجديدة | B30: منطقة 1360 فدان بالامتداد | C30: المجاورة الرابعة بالحى الأول | D30: المجاورة الرابعة بالحى الأول | E30: 27 | F30: 427.6 | G30: =O30/$T$2 -> 4.2996109 | H30: =P30/$T$2 -> 1838.5136 | I30: =Q30/$T$2 -> 459.6284 | J30: ✓ | M30: متاحة | O30: 221 | P30: 94499.6 | Q30: 23624.9
A31: المنيا الجديدة | B31: منطقة 1360 فدان بالامتداد | C31: المجاورة الرابعة بالحى الأول | D31: المجاورة الرابعة بالحى الأول | E31: 28 | F31: 461.3 | G31: =O31/$T$2 -> 4.2996109 | H31: =P31/$T$2 -> 1983.4105 | I31: =Q31/$T$2 -> 495.85272 | J31: ✓ | M31: متاحة | O31: 221 | P31: 101947.3 | Q31: 25486.83
A32: المنيا الجديدة | B32: منطقة 1360 فدان بالامتداد | C32: المجاورة الرابعة بالحى الأول | D32: المجاورة الرابعة بالحى الأول | E32: 29 | F32: 461.3 | G32: =O32/$T$2 -> 4.0856031 | H32: =P32/$T$2 -> 1884.6887 | I32: =Q32/$T$2 -> 471.17218 | M32: متاحة | O32: 210 | P32: 96873 | Q32: 24218.25
A33: المنيا الجديدة | B33: منطقة 1360 فدان بالامتداد | C33: المجاورة الرابعة بالحى الأول | D33: المجاورة الرابعة بالحى الأول | E33: 30 | F33: 461.3 | G33: =O33/$T$2 -> 4.2996109 | H33: =P33/$T$2 -> 1983.4105 | I33: =Q33/$T$2 -> 495.85272 | K33: ✓ | M33: متاحة | O33: 221 | P33: 101947.3 | Q33: 25486.83
A34: المنيا الجديدة | B34: منطقة 1360 فدان بالامتداد | C34: المجاورة الرابعة بالحى الأول | D34: المجاورة الرابعة بالحى الأول | E34: 31 | F34: 461.3 | G34: =O34/$T$2 -> 4.5136187 | H34: =P34/$T$2 -> 2082.1323 | I34: =Q34/$T$2 -> 520.53307 | J34: ✓ | K34: ✓ | M34: متاحة | O34: 232 | P34: 107021.6 | Q34: 26755.4
A35: المنيا الجديدة | B35: منطقة 1360 فدان بالامتداد | C35: المجاورة الرابعة بالحى الأول | D35: المجاورة الرابعة بالحى الأول | E35: 32 | F35: 461.3 | G35: =O35/$T$2 -> 4.2996109 | H35: =P35/$T$2 -> 1983.4105 | I35: =Q35/$T$2 -> 495.85272 | J35: ✓ | M35: متاحة | O35: 221 | P35: 101947.3 | Q35: 25486.83
A36: المنيا الجديدة | B36: منطقة 1360 فدان بالامتداد | C36: المجاورة الرابعة بالحى الأول | D36: المجاورة الرابعة بالحى الأول | E36: 33 | F36: 461.3 | G36: =O36/$T$2 -> 4.0856031 | H36: =P36/$T$2 -> 1884.6887 | I36: =Q36/$T$2 -> 471.17218 | M36: متاحة | O36: 210 | P36: 96873 | Q36: 24218.25
A37: المنيا الجديدة | B37: منطقة 1360 فدان بالامتداد | C37: المجاورة الرابعة بالحى الأول | D37: المجاورة الرابعة بالحى الأول | E37: 34 | F37: 461.3 | G37: =O37/$T$2 -> 4.5136187 | H37: =P37/$T$2 -> 2082.1323 | I37: =Q37/$T$2 -> 520.53307 | J37: ✓ | K37: ✓ | M37: متاحة | O37: 232 | P37: 107021.6 | Q37: 26755.4
A38: المنيا الجديدة | B38: منطقة 1360 فدان بالامتداد | C38: المجاورة الرابعة بالحى الأول | D38: المجاورة الرابعة بالحى الأول | E38: 35 | F38: 461.3 | G38: =O38/$T$2 -> 4.2996109 | H38: =P38/$T$2 -> 1983.4105 | I38: =Q38/$T$2 -> 495.85272 | J38: ✓ | M38: متاحة | O38: 221 | P38: 101947.3 | Q38: 25486.83
A39: المنيا الجديدة | B39: منطقة 1360 فدان بالامتداد | C39: المجاورة الرابعة بالحى الأول | D39: المجاورة الرابعة بالحى الأول | E39: 36 | F39: 461.3 | G39: =O39/$T$2 -> 4.0856031 | H39: =P39/$T$2 -> 1884.6887 | I39: =Q39/$T$2 -> 471.17218 | M39: متاحة | O39: 210 | P39: 96873 | Q39: 24218.25
A40: المنيا الجديدة | B40: منطقة 1360 فدان بالامتداد | C40: المجاورة الرابعة بالحى الأول | D40: المجاورة الرابعة بالحى الأول | E40: 37 | F40: 461.3 | G40: =O40/$T$2 -> 4.0856031 | H40: =P40/$T$2 -> 1884.6887 | I40: =Q40/$T$2 -> 471.17218 | M40: متاحة | O40: 210 | P40: 96873 | Q40: 24218.25
A41: المنيا الجديدة | B41: منطقة 1360 فدان بالامتداد | C41: المجاورة الرابعة بالحى الأول | D41: المجاورة الرابعة بالحى الأول | E41: 38 | F41: 461.3 | G41: =O41/$T$2 -> 4.0856031 | H41: =P41/$T$2 -> 1884.6887 | I41: =Q41/$T$2 -> 471.17218 | M41: متاحة | O41: 210 | P41: 96873 | Q41: 24218.25
A42: المنيا الجديدة | B42: منطقة 1360 فدان بالامتداد | C42: المجاورة الرابعة بالحى الأول | D42: المجاورة الرابعة بالحى الأول | E42: 39 | F42: 461.3 | G42: =O42/$T$2 -> 4.0856031 | H42: =P42/$T$2 -> 1884.6887 | I42: =Q42/$T$2 -> 471.17218 | M42: متاحة | O42: 210 | P42: 96873 | Q42: 24218.25
A43: المنيا الجديدة | B43: منطقة 1360 فدان بالامتداد | C43: المجاورة الرابعة بالحى الأول | D43: المجاورة الرابعة بالحى الأول | E43: 40 | F43: 461.3 | G43: =O43/$T$2 -> 4.2996109 | H43: =P43/$T$2 -> 1983.4105 | I43: =Q43/$T$2 -> 495.85272 | J43: ✓ | M43: متاحة | O43: 221 | P43: 101947.3 | Q43: 25486.83
A44: المنيا الجديدة | B44: منطقة 1360 فدان بالامتداد | C44: المجاورة الرابعة بالحى الأول | D44: المجاورة الرابعة بالحى الأول | E44: 41 | F44: 461.3 | G44: =O44/$T$2 -> 4.2996109 | H44: =P44/$T$2 -> 1983.4105 | I44: =Q44/$T$2 -> 495.85272 | J44: ✓ | M44: متاحة | O44: 221 | P44: 101947.3 | Q44: 25486.83
A45: المنيا الجديدة | B45: منطقة 1360 فدان بالامتداد | C45: المجاورة الرابعة بالحى الأول | D45: المجاورة الرابعة بالحى الأول | E45: 42 | F45: 461.3 | G45: =O45/$T$2 -> 4.0856031 | H45: =P45/$T$2 -> 1884.6887 | I45: =Q45/$T$2 -> 471.17218 | M45: متاحة | O45: 210 | P45: 96873 | Q45: 24218.25
A46: المنيا الجديدة | B46: منطقة 1360 فدان بالامتداد | C46: المجاورة الرابعة بالحى الأول | D46: المجاورة الرابعة بالحى الأول | E46: 43 | F46: 461.3 | G46: =O46/$T$2 -> 4.0856031 | H46: =P46/$T$2 -> 1884.6887 | I46: =Q46/$T$2 -> 471.17218 | M46: متاحة | O46: 210 | P46: 96873 | Q46: 24218.25
A47: المنيا الجديدة | B47: منطقة 1360 فدان بالامتداد | C47: المجاورة الرابعة بالحى الأول | D47: المجاورة الرابعة بالحى الأول | E47: 44 | F47: 461.3 | G47: =O47/$T$2 -> 4.0856031 | H47: =P47/$T$2 -> 1884.6887 | I47: =Q47/$T$2 -> 471.17218 | M47: متاحة | O47: 210 | P47: 96873 | Q47: 24218.25
A48: المنيا الجديدة | B48: منطقة 1360 فدان بالامتداد | C48: المجاورة الرابعة بالحى الأول | D48: المجاورة الرابعة بالحى الأول | E48: 45 | F48: 461.3 | G48: =O48/$T$2 -> 4.2996109 | H48: =P48/$T$2 -> 1983.4105 | I48: =Q48/$T$2 -> 495.85272 | J48: ✓ | M48: متاحة | O48: 221 | P48: 101947.3 | Q48: 25486.83
A49: المنيا الجديدة | B49: منطقة 1360 فدان بالامتداد | C49: المجاورة الرابعة بالحى الأول | D49: المجاورة الرابعة بالحى الأول | E49: 46 | F49: 461.3 | G49: =O49/$T$2 -> 4.2996109 | H49: =P49/$T$2 -> 1983.4105 | I49: =Q49/$T$2 -> 495.85272 | J49: ✓ | M49: متاحة | O49: 221 | P49: 101947.3 | Q49: 25486.83
A50: المنيا الجديدة | B50: منطقة 1360 فدان بالامتداد | C50: المجاورة الرابعة بالحى الأول | D50: المجاورة الرابعة بالحى الأول | E50: 47 | F50: 461.3 | G50: =O50/$T$2 -> 4.0856031 | H50: =P50/$T$2 -> 1884.6887 | I50: =Q50/$T$2 -> 471.17218 | M50: متاحة | O50: 210 | P50: 96873 | Q50: 24218.25
A51: المنيا الجديدة | B51: منطقة 1360 فدان بالامتداد | C51: المجاورة الرابعة بالحى الأول | D51: المجاورة الرابعة بالحى الأول | E51: 48 | F51: 461.3 | G51: =O51/$T$2 -> 4.0856031 | H51: =P51/$T$2 -> 1884.6887 | I51: =Q51/$T$2 -> 471.17218 | M51: متاحة | O51: 210 | P51: 96873 | Q51: 24218.25
A52: المنيا الجديدة | B52: منطقة 1360 فدان بالامتداد | C52: المجاورة الرابعة بالحى الأول | D52: المجاورة الرابعة بالحى الأول | E52: 49 | F52: 461.3 | G52: =O52/$T$2 -> 4.0856031 | H52: =P52/$T$2 -> 1884.6887 | I52: =Q52/$T$2 -> 471.17218 | M52: متاحة | O52: 210 | P52: 96873 | Q52: 24218.25
A53: المنيا الجديدة | B53: منطقة 1360 فدان بالامتداد | C53: المجاورة الرابعة بالحى الأول | D53: المجاورة الرابعة بالحى الأول | E53: 50 | F53: 461.3 | G53: =O53/$T$2 -> 4.2996109 | H53: =P53/$T$2 -> 1983.4105 | I53: =Q53/$T$2 -> 495.85272 | J53: ✓ | M53: متاحة | O53: 221 | P53: 101947.3 | Q53: 25486.83
A54: المنيا الجديدة | B54: منطقة 1360 فدان بالامتداد | C54: المجاورة الرابعة بالحى الأول | D54: المجاورة الرابعة بالحى الأول | E54: 51 | F54: 461.3 | G54: =O54/$T$2 -> 4.2996109 | H54: =P54/$T$2 -> 1983.4105 | I54: =Q54/$T$2 -> 495.85272 | J54: ✓ | M54: متاحة | O54: 221 | P54: 101947.3 | Q54: 25486.83
A55: المنيا الجديدة | B55: منطقة 1360 فدان بالامتداد | C55: المجاورة الرابعة بالحى الأول | D55: المجاورة الرابعة بالحى الأول | E55: 52 | F55: 461.3 | G55: =O55/$T$2 -> 4.0856031 | H55: =P55/$T$2 -> 1884.6887 | I55: =Q55/$T$2 -> 471.17218 | M55: متاحة | O55: 210 | P55: 96873 | Q55: 24218.25
A56: المنيا الجديدة | B56: منطقة 1360 فدان بالامتداد | C56: المجاورة الرابعة بالحى الأول | D56: المجاورة الرابعة بالحى الأول | E56: 53 | F56: 461.3 | G56: =O56/$T$2 -> 4.0856031 | H56: =P56/$T$2 -> 1884.6887 | I56: =Q56/$T$2 -> 471.17218 | M56: متاحة | O56: 210 | P56: 96873 | Q56: 24218.25
A57: المنيا الجديدة | B57: منطقة 1360 فدان بالامتداد | C57: المجاورة الرابعة بالحى الأول | D57: المجاورة الرابعة بالحى الأول | E57: 54 | F57: 461.3 | G57: =O57/$T$2 -> 4.2996109 | H57: =P57/$T$2 -> 1983.4105 | I57: =Q57/$T$2 -> 495.85272 | K57: ✓ | M57: متاحة | O57: 221 | P57: 101947.3 | Q57: 25486.83
A58: المنيا الجديدة | B58: منطقة 1360 فدان بالامتداد | C58: المجاورة الرابعة بالحى الأول | D58: المجاورة الرابعة بالحى الأول | E58: 55 | F58: 459.3 | G58: =O58/$T$2 -> 4.5136187 | H58: =P58/$T$2 -> 2073.1051 | I58: =Q58/$T$2 -> 518.27626 | J58: ✓ | K58: ✓ | M58: متاحة | O58: 232 | P58: 106557.6 | Q58: 26639.4
A59: المنيا الجديدة | B59: منطقة 1360 فدان بالامتداد | C59: المجاورة الرابعة بالحى الأول | D59: المجاورة الرابعة بالحى الأول | E59: 56 | F59: 455.9 | G59: =O59/$T$2 -> 4.2996109 | H59: =P59/$T$2 -> 1960.1926 | I59: =Q59/$T$2 -> 490.04825 | J59: ✓ | M59: متاحة | O59: 221 | P59: 100753.9 | Q59: 25188.48
A60: المنيا الجديدة | B60: منطقة 1360 فدان بالامتداد | C60: المجاورة الرابعة بالحى الأول | D60: المجاورة الرابعة بالحى الأول | E60: 57 | F60: 461.3 | G60: =O60/$T$2 -> 4.0856031 | H60: =P60/$T$2 -> 1884.6887 | I60: =Q60/$T$2 -> 471.17218 | M60: متاحة | O60: 210 | P60: 96873 | Q60: 24218.25
A61: المنيا الجديدة | B61: منطقة 1360 فدان بالامتداد | C61: المجاورة الرابعة بالحى الأول | D61: المجاورة الرابعة بالحى الأول | E61: 58 | F61: 461.3 | G61: =O61/$T$2 -> 4.0856031 | H61: =P61/$T$2 -> 1884.6887 | I61: =Q61/$T$2 -> 471.17218 | M61: متاحة | O61: 210 | P61: 96873 | Q61: 24218.25
A62: المنيا الجديدة | B62: منطقة 1360 فدان بالامتداد | C62: المجاورة الرابعة بالحى الأول | D62: المجاورة الرابعة بالحى الأول | E62: 59 | F62: 461.3 | G62: =O62/$T$2 -> 4.0856031 | H62: =P62/$T$2 -> 1884.6887 | I62: =Q62/$T$2 -> 471.17218 | M62: متاحة | O62: 210 | P62: 96873 | Q62: 24218.25
A63: المنيا الجديدة | B63: منطقة 1360 فدان بالامتداد | C63: المجاورة الرابعة بالحى الأول | D63: المجاورة الرابعة بالحى الأول | E63: 60 | F63: 455.9 | G63: =O63/$T$2 -> 4.2996109 | H63: =P63/$T$2 -> 1960.1926 | I63: =Q63/$T$2 -> 490.04825 | J63: ✓ | M63: متاحة | O63: 221 | P63: 100753.9 | Q63: 25188.48
A64: المنيا الجديدة | B64: منطقة 1360 فدان بالامتداد | C64: المجاورة الرابعة بالحى الأول | D64: المجاورة الرابعة بالحى الأول | E64: 61 | F64: 455.9 | G64: =O64/$T$2 -> 4.2996109 | H64: =P64/$T$2 -> 1960.1926 | I64: =Q64/$T$2 -> 490.04825 | J64: ✓ | M64: متاحة | O64: 221 | P64: 100753.9 | Q64: 25188.48
A65: المنيا الجديدة | B65: منطقة 1360 فدان بالامتداد | C65: المجاورة الرابعة بالحى الأول | D65: المجاورة الرابعة بالحى الأول | E65: 62 | F65: 461.3 | G65: =O65/$T$2 -> 4.0856031 | H65: =P65/$T$2 -> 1884.6887 | I65: =Q65/$T$2 -> 471.17218 | M65: متاحة | O65: 210 | P65: 96873 | Q65: 24218.25
A66: المنيا الجديدة | B66: منطقة 1360 فدان بالامتداد | C66: المجاورة الرابعة بالحى الأول | D66: المجاورة الرابعة بالحى الأول | E66: 63 | F66: 461.3 | G66: =O66/$T$2 -> 4.0856031 | H66: =P66/$T$2 -> 1884.6887 | I66: =Q66/$T$2 -> 471.17218 | M66: متاحة | O66: 210 | P66: 96873 | Q66: 24218.25
A67: المنيا الجديدة | B67: منطقة 1360 فدان بالامتداد | C67: المجاورة الرابعة بالحى الأول | D67: المجاورة الرابعة بالحى الأول | E67: 64 | F67: 461.3 | G67: =O67/$T$2 -> 4.0856031 | H67: =P67/$T$2 -> 1884.6887 | I67: =Q67/$T$2 -> 471.17218 | M67: متاحة | O67: 210 | P67: 96873 | Q67: 24218.25
A68: المنيا الجديدة | B68: منطقة 1360 فدان بالامتداد | C68: المجاورة الرابعة بالحى الأول | D68: المجاورة الرابعة بالحى الأول | E68: 65 | F68: 455.9 | G68: =O68/$T$2 -> 4.2996109 | H68: =P68/$T$2 -> 1960.1926 | I68: =Q68/$T$2 -> 490.04825 | J68: ✓ | M68: متاحة | O68: 221 | P68: 100753.9 | Q68: 25188.48
A69: المنيا الجديدة | B69: منطقة 1360 فدان بالامتداد | C69: المجاورة الرابعة بالحى الأول | D69: المجاورة الرابعة بالحى الأول | E69: 66 | F69: 525.5 | G69: =O69/$T$2 -> 4.2996109 | H69: =P69/$T$2 -> 2259.4455 | I69: =Q69/$T$2 -> 564.86148 | J69: ✓ | M69: متاحة | O69: 221 | P69: 116135.5 | Q69: 29033.88
A70: المنيا الجديدة | B70: منطقة 1360 فدان بالامتداد | C70: المجاورة الرابعة بالحى الأول | D70: المجاورة الرابعة بالحى الأول | E70: 67 | F70: 461.3 | G70: =O70/$T$2 -> 4.0856031 | H70: =P70/$T$2 -> 1884.6887 | I70: =Q70/$T$2 -> 471.17218 | M70: متاحة | O70: 210 | P70: 96873 | Q70: 24218.25
A71: المنيا الجديدة | B71: منطقة 1360 فدان بالامتداد | C71: المجاورة الرابعة بالحى الأول | D71: المجاورة الرابعة بالحى الأول | E71: 68 | F71: 461.3 | G71: =O71/$T$2 -> 4.0856031 | H71: =P71/$T$2 -> 1884.6887 | I71: =Q71/$T$2 -> 471.17218 | M71: متاحة | O71: 210 | P71: 96873 | Q71: 24218.25
A72: المنيا الجديدة | B72: منطقة 1360 فدان بالامتداد | C72: المجاورة الرابعة بالحى الأول | D72: المجاورة الرابعة بالحى الأول | E72: 69 | F72: 461.3 | G72: =O72/$T$2 -> 4.2996109 | H72: =P72/$T$2 -> 1983.4105 | I72: =Q72/$T$2 -> 495.85272 | J72: ✓ | M72: متاحة | O72: 221 | P72: 101947.3 | Q72: 25486.83
A73: المنيا الجديدة | B73: منطقة 1360 فدان بالامتداد | C73: المجاورة الرابعة بالحى الأول | D73: المجاورة الرابعة بالحى الأول | E73: 70 | F73: 461.3 | G73: =O73/$T$2 -> 4.2996109 | H73: =P73/$T$2 -> 1983.4105 | I73: =Q73/$T$2 -> 495.85272 | J73: ✓ | M73: متاحة | O73: 221 | P73: 101947.3 | Q73: 25486.83
A74: المنيا الجديدة | B74: منطقة 1360 فدان بالامتداد | C74: المجاورة الرابعة بالحى الأول | D74: المجاورة الرابعة بالحى الأول | E74: 71 | F74: 461.3 | G74: =O74/$T$2 -> 4.2996109 | H74: =P74/$T$2 -> 1983.4105 | I74: =Q74/$T$2 -> 495.85272 | J74: ✓ | M74: متاحة | O74: 221 | P74: 101947.3 | Q74: 25486.83
A75: المنيا الجديدة | B75: منطقة 1360 فدان بالامتداد | C75: المجاورة الرابعة بالحى الأول | D75: المجاورة الرابعة بالحى الأول | E75: 72 | F75: 455.9 | G75: =O75/$T$2 -> 4.5136187 | H75: =P75/$T$2 -> 2057.7588 | I75: =Q75/$T$2 -> 514.43969 | J75: ✓ | K75: ✓ | M75: متاحة | O75: 232 | P75: 105768.8 | Q75: 26442.2
A76: المنيا الجديدة | B76: منطقة 1360 فدان بالامتداد | C76: المجاورة الرابعة بالحى الأول | D76: المجاورة الرابعة بالحى الأول | E76: 73 | F76: 461.3 | G76: =O76/$T$2 -> 4.2996109 | H76: =P76/$T$2 -> 1983.4105 | I76: =Q76/$T$2 -> 495.85272 | J76: ✓ | M76: متاحة | O76: 221 | P76: 101947.3 | Q76: 25486.83
A77: المنيا الجديدة | B77: منطقة 1360 فدان بالامتداد | C77: المجاورة الرابعة بالحى الأول | D77: المجاورة الرابعة بالحى الأول | E77: 74 | F77: 461.3 | G77: =O77/$T$2 -> 4.0856031 | H77: =P77/$T$2 -> 1884.6887 | I77: =Q77/$T$2 -> 471.17218 | M77: متاحة | O77: 210 | P77: 96873 | Q77: 24218.25
A78: المنيا الجديدة | B78: منطقة 1360 فدان بالامتداد | C78: المجاورة الرابعة بالحى الأول | D78: المجاورة الرابعة بالحى الأول | E78: 75 | F78: 461.3 | G78: =O78/$T$2 -> 4.5136187 | H78: =P78/$T$2 -> 2082.1323 | I78: =Q78/$T$2 -> 520.53307 | J78: ✓ | K78: ✓ | M78: متاحة | O78: 232 | P78: 107021.6 | Q78: 26755.4
A79: المنيا الجديدة | B79: منطقة 1360 فدان بالامتداد | C79: المجاورة الرابعة بالحى الأول | D79: المجاورة الرابعة بالحى الأول | E79: 76 | F79: 461.3 | G79: =O79/$T$2 -> 4.5136187 | H79: =P79/$T$2 -> 2082.1323 | I79: =Q79/$T$2 -> 520.53307 | J79: ✓ | K79: ✓ | M79: متاحة | O79: 232 | P79: 107021.6 | Q79: 26755.4
A80: المنيا الجديدة | B80: منطقة 1360 فدان بالامتداد | C80: المجاورة الرابعة بالحى الأول | D80: المجاورة الرابعة بالحى الأول | E80: 77 | F80: 461.3 | G80: =O80/$T$2 -> 4.0856031 | H80: =P80/$T$2 -> 1884.6887 | I80: =Q80/$T$2 -> 471.17218 | M80: متاحة | O80: 210 | P80: 96873 | Q80: 24218.25
A81: المنيا الجديدة | B81: منطقة 1360 فدان بالامتداد | C81: المجاورة الرابعة بالحى الأول | D81: المجاورة الرابعة بالحى الأول | E81: 78 | F81: 461.3 | G81: =O81/$T$2 -> 4.2996109 | H81: =P81/$T$2 -> 1983.4105 | I81: =Q81/$T$2 -> 495.85272 | J81: ✓ | M81: متاحة | O81: 221 | P81: 101947.3 | Q81: 25486.83
A82: المنيا الجديدة | B82: منطقة 1360 فدان بالامتداد | C82: المجاورة الرابعة بالحى الأول | D82: المجاورة الرابعة بالحى الأول | E82: 79 | F82: 455.9 | G82: =O82/$T$2 -> 4.2996109 | H82: =P82/$T$2 -> 1960.1926 | I82: =Q82/$T$2 -> 490.04825 | J82: ✓ | M82: متاحة | O82: 221 | P82: 100753.9 | Q82: 25188.48
A83: المنيا الجديدة | B83: منطقة 1360 فدان بالامتداد | C83: المجاورة الرابعة بالحى الأول | D83: المجاورة الرابعة بالحى الأول | E83: 80 | F83: 461.3 | G83: =O83/$T$2 -> 4.0856031 | H83: =P83/$T$2 -> 1884.6887 | I83: =Q83/$T$2 -> 471.17218 | M83: متاحة | O83: 210 | P83: 96873 | Q83: 24218.25
A84: المنيا الجديدة | B84: منطقة 1360 فدان بالامتداد | C84: المجاورة الرابعة بالحى الأول | D84: المجاورة الرابعة بالحى الأول | E84: 81 | F84: 461.3 | G84: =O84/$T$2 -> 4.0856031 | H84: =P84/$T$2 -> 1884.6887 | I84: =Q84/$T$2 -> 471.17218 | M84: متاحة | O84: 210 | P84: 96873 | Q84: 24218.25
A85: المنيا الجديدة | B85: منطقة 1360 فدان بالامتداد | C85: المجاورة الرابعة بالحى الأول | D85: المجاورة الرابعة بالحى الأول | E85: 82 | F85: 525.5 | G85: =O85/$T$2 -> 4.2996109 | H85: =P85/$T$2 -> 2259.4455 | I85: =Q85/$T$2 -> 564.86148 | J85: ✓ | M85: متاحة | O85: 221 | P85: 116135.5 | Q85: 29033.88
A86: المنيا الجديدة | B86: منطقة 1360 فدان بالامتداد | C86: المجاورة الرابعة بالحى الأول | D86: المجاورة الرابعة بالحى الأول | E86: 83 | F86: 455.9 | G86: =O86/$T$2 -> 4.2996109 | H86: =P86/$T$2 -> 1960.1926 | I86: =Q86/$T$2 -> 490.04825 | J86: ✓ | M86: متاحة | O86: 221 | P86: 100753.9 | Q86: 25188.48
A87: المنيا الجديدة | B87: منطقة 1360 فدان بالامتداد | C87: المجاورة الرابعة بالحى الأول | D87: المجاورة الرابعة بالحى الأول | E87: 84 | F87: 461.3 | G87: =O87/$T$2 -> 4.0856031 | H87: =P87/$T$2 -> 1884.6887 | I87: =Q87/$T$2 -> 471.17218 | M87: متاحة | O87: 210 | P87: 96873 | Q87: 24218.25
A88: المنيا الجديدة | B88: منطقة 1360 فدان بالامتداد | C88: المجاورة الرابعة بالحى الأول | D88: المجاورة الرابعة بالحى الأول | E88: 85 | F88: 461.3 | G88: =O88/$T$2 -> 4.2996109 | H88: =P88/$T$2 -> 1983.4105 | I88: =Q88/$T$2 -> 495.85272 | J88: ✓ | M88: متاحة | O88: 221 | P88: 101947.3 | Q88: 25486.83
A89: المنيا الجديدة | B89: منطقة 1360 فدان بالامتداد | C89: المجاورة الرابعة بالحى الأول | D89: المجاورة الرابعة بالحى الأول | E89: 86 | F89: 461.3 | G89: =O89/$T$2 -> 4.2996109 | H89: =P89/$T$2 -> 1983.4105 | I89: =Q89/$T$2 -> 495.85272 | J89: ✓ | M89: متاحة | O89: 221 | P89: 101947.3 | Q89: 25486.83
A90: المنيا الجديدة | B90: منطقة 1360 فدان بالامتداد | C90: المجاورة الرابعة بالحى الأول | D90: المجاورة الرابعة بالحى الأول | E90: 87 | F90: 461.3 | G90: =O90/$T$2 -> 4.0856031 | H90: =P90/$T$2 -> 1884.6887 | I90: =Q90/$T$2 -> 471.17218 | M90: متاحة | O90: 210 | P90: 96873 | Q90: 24218.25
A91: المنيا الجديدة | B91: منطقة 1360 فدان بالامتداد | C91: المجاورة الرابعة بالحى الأول | D91: المجاورة الرابعة بالحى الأول | E91: 88 | F91: 461.3 | G91: =O91/$T$2 -> 4.2996109 | H91: =P91/$T$2 -> 1983.4105 | I91: =Q91/$T$2 -> 495.85272 | J91: ✓ | M91: متاحة | O91: 221 | P91: 101947.3 | Q91: 25486.83
A92: المنيا الجديدة | B92: منطقة 1360 فدان بالامتداد | C92: المجاورة الرابعة بالحى الأول | D92: المجاورة الرابعة بالحى الأول | E92: 89 | F92: 455.9 | G92: =O92/$T$2 -> 4.5136187 | H92: =P92/$T$2 -> 2057.7588 | I92: =Q92/$T$2 -> 514.43969 | J92: ✓ | K92: ✓ | M92: متاحة | O92: 232 | P92: 105768.8 | Q92: 26442.2
A93: المنيا الجديدة | B93: منطقة 1360 فدان بالامتداد | C93: المجاورة الرابعة بالحى الأول | D93: المجاورة الرابعة بالحى الأول | E93: 90 | F93: 461.3 | G93: =O93/$T$2 -> 4.5136187 | H93: =P93/$T$2 -> 2082.1323 | I93: =Q93/$T$2 -> 520.53307 | J93: ✓ | K93: ✓ | M93: متاحة | O93: 232 | P93: 107021.6 | Q93: 26755.4
A94: المنيا الجديدة | B94: منطقة 1360 فدان بالامتداد | C94: المجاورة الرابعة بالحى الأول | D94: المجاورة الرابعة بالحى الأول | E94: 91 | F94: 461.3 | G94: =O94/$T$2 -> 4.5136187 | H94: =P94/$T$2 -> 2082.1323 | I94: =Q94/$T$2 -> 520.53307 | J94: ✓ | K94: ✓ | M94: متاحة | O94: 232 | P94: 107021.6 | Q94: 26755.4
A95: المنيا الجديدة | B95: منطقة 1360 فدان بالامتداد | C95: المجاورة الرابعة بالحى الأول | D95: المجاورة الرابعة بالحى الأول | E95: 92 | F95: 461.3 | G95: =O95/$T$2 -> 4.5136187 | H95: =P95/$T$2 -> 2082.1323 | I95: =Q95/$T$2 -> 520.53307 | J95: ✓ | K95: ✓ | M95: متاحة | O95: 232 | P95: 107021.6 | Q95: 26755.4
A96: المنيا الجديدة | B96: منطقة 1360 فدان بالامتداد | C96: المجاورة الرابعة بالحى الأول | D96: المجاورة الرابعة بالحى الأول | E96: 93 | F96: 461.3 | G96: =O96/$T$2 -> 4.5136187 | H96: =P96/$T$2 -> 2082.1323 | I96: =Q96/$T$2 -> 520.53307 | J96: ✓ | K96: ✓ | M96: متاحة | O96: 232 | P96: 107021.6 | Q96: 26755.4
A97: المنيا الجديدة | B97: منطقة 1360 فدان بالامتداد | C97: المجاورة الرابعة بالحى الأول | D97: المجاورة الرابعة بالحى الأول | E97: 94 | F97: 461.3 | G97: =O97/$T$2 -> 4.2996109 | H97: =P97/$T$2 -> 1983.4105 | I97: =Q97/$T$2 -> 495.85272 | J97: ✓ | M97: متاحة | O97: 221 | P97: 101947.3 | Q97: 25486.83
A98: المنيا الجديدة | B98: منطقة 1360 فدان بالامتداد | C98: المجاورة الرابعة بالحى الأول | D98: المجاورة الرابعة بالحى الأول | E98: 95 | F98: 461.3 | G98: =O98/$T$2 -> 4.2996109 | H98: =P98/$T$2 -> 1983.4105 | I98: =Q98/$T$2 -> 495.85272 | J98: ✓ | M98: متاحة | O98: 221 | P98: 101947.3 | Q98: 25486.83
A99: المنيا الجديدة | B99: منطقة 1360 فدان بالامتداد | C99: المجاورة الرابعة بالحى الأول | D99: المجاورة الرابعة بالحى الأول | E99: 96 | F99: 461.3 | G99: =O99/$T$2 -> 4.0856031 | H99: =P99/$T$2 -> 1884.6887 | I99: =Q99/$T$2 -> 471.17218 | M99: متاحة | O99: 210 | P99: 96873 | Q99: 24218.25
A100: المنيا الجديدة | B100: منطقة 1360 فدان بالامتداد | C100: المجاورة الرابعة بالحى الأول | D100: المجاورة الرابعة بالحى الأول | E100: 97 | F100: 461.3 | G100: =O100/$T$2 -> 4.2996109 | H100: =P100/$T$2 -> 1983.4105 | I100: =Q100/$T$2 -> 495.85272 | J100: ✓ | M100: متاحة | O100: 221 | P100: 101947.3 | Q100: 25486.83
...

Sheet لوحة التحكم
A1: 📊 لوحة تحكم بيانات القطع
A2: آخر تحديث: 2026/09/10 | سعر الصرف: 1$ = 51.40 ج.م
A5: إجمالي عدد القطع | D5: عدد المدن
A6: =COUNTA('بيانات القطع'!E4:E15541) -> 15538 | D6: =SUMPRODUCT(('بيانات القطع'!A4:A15541<>"")/COUNTIF('بيانات القطع'!A4:A15541,'بيانات القطع'!A4:A15541&"")) -> 25
A10: عدد المشاريع | D10: إجمالي قيمة القطع ($)
A11: =SUMPRODUCT(('بيانات القطع'!B4:B15541<>"")/COUNTIF('بيانات القطع'!B4:B15541,'بيانات القطع'!B4:B15541&"")) -> 63 | D11: =SUM('بيانات القطع'!H4:H15541) -> 35245414
A15: أصغر مساحة قطعة (م²) | D15: أكبر مساحة قطعة (م²)
A16: =MIN('بيانات القطع'!F4:F15541) -> 162 | D16: =MAX('بيانات القطع'!F4:F15541) -> 1433.6
A20: أقل سعر قطعة ($) | D20: أعلى سعر قطعة ($)
A21: =MIN('بيانات القطع'!H4:H15541) -> 609.28016 | D21: =MAX('بيانات القطع'!H4:H15541) -> 15061.167
A25: ملخص القطع حسب المدينة
A26: المدينة | B26: عدد القطع | C26: أقل مساحة قطعة (م²) | D26: أكبر مساحة قطعة (م²) | E26: أقل سعر قطعة ($) | F26: أعلى سعر قطعة ($) | G26: عدد المتاحة
A27: 15 مايو | B27: =COUNTIF('بيانات القطع'!$A$4:$A$15541,A27) -> 201 | C27: {=MIN(IF('بيانات القطع'!$A$4:$A$15541=A27,'بيانات القطع'!$F$4:$F$15541))} -> 463.4 | D27: {=MAX(IF('بيانات القطع'!$A$4:$A$15541=A27,'بيانات القطع'!$F$4:$F$15541))} -> 887.1 | E27: {=MIN(IF('بيانات القطع'!$A$4:$A$15541=A27,'بيانات القطع'!$H$4:$H$15541))} -> 3414.3969 | F27: {=MAX(IF('بيانات القطع'!$A$4:$A$15541=A27,'بيانات القطع'!$H$4:$H$15541))} -> 5988.7879 | G27: =COUNTIFS('بيانات القطع'!$A$4:$A$15541,A27,'بيانات القطع'!$M$4:$M$15541,"متاحة") -> 201
A28: أخميم الجديدة | B28: =COUNTIF('بيانات القطع'!$A$4:$A$15541,A28) -> 253 | C28: {=MIN(IF('بيانات القطع'!$A$4:$A$15541=A28,'بيانات القطع'!$F$4:$F$15541))} -> 429 | D28: {=MAX(IF('بيانات القطع'!$A$4:$A$15541=A28,'بيانات القطع'!$F$4:$F$15541))} -> 633 | E28: {=MIN(IF('بيانات القطع'!$A$4:$A$15541=A28,'بيانات القطع'!$H$4:$H$15541))} -> 609.28016 | F28: {=MAX(IF('بيانات القطع'!$A$4:$A$15541=A28,'بيانات القطع'!$H$4:$H$15541))} -> 899.00778 | G28: =COUNTIFS('بيانات القطع'!$A$4:$A$15541,A28,'بيانات القطع'!$M$4:$M$15541,"متاحة") -> 253
A29: أسوان الجديدة | B29: =COUNTIF('بيانات القطع'!$A$4:$A$15541,A29) -> 147 | C29: {=MIN(IF('بيانات القطع'!$A$4:$A$15541=A29,'بيانات القطع'!$F$4:$F$15541))} -> 458.8 | D29: {=MAX(IF('بيانات القطع'!$A$4:$A$15541=A29,'بيانات القطع'!$F$4:$F$15541))} -> 692.8 | E29: {=MIN(IF('بيانات القطع'!$A$4:$A$15541=A29,'بيانات القطع'!$H$4:$H$15541))} -> 1008.1907 | F29: {=MAX(IF('بيانات القطع'!$A$4:$A$15541=A29,'بيانات القطع'!$H$4:$H$15541))} -> 1563.5175 | G29: =COUNTIFS('بيانات القطع'!$A$4:$A$15541,A29,'بيانات القطع'!$M$4:$M$15541,"متاحة") -> 147
A30: أسيوط الجديدة | B30: =COUNTIF('بيانات القطع'!$A$4:$A$15541,A30) -> 945 | C30: {=MIN(IF('بيانات القطع'!$A$4:$A$15541=A30,'بيانات القطع'!$F$4:$F$15541))} -> 363.3 | D30: {=MAX(IF('بيانات القطع'!$A$4:$A$15541=A30,'بيانات القطع'!$F$4:$F$15541))} -> 1080 | E30: {=MIN(IF('بيانات القطع'!$A$4:$A$15541=A30,'بيانات القطع'!$H$4:$H$15541))} -> 663.15175 | F30: {=MAX(IF('بيانات القطع'!$A$4:$A$15541=A30,'بيانات القطع'!$H$4:$H$15541))} -> 2134.2607 | G30: =COUNTIFS('بيانات القطع'!$A$4:$A$15541,A30,'بيانات القطع'!$M$4:$M$15541,"متاحة") -> 945
A31: أكتوبر الجديدة | B31: =COUNTIF('بيانات القطع'!$A$4:$A$15541,A31) -> 1409 | C31: {=MIN(IF('بيانات القطع'!$A$4:$A$15541=A31,'بيانات القطع'!$F$4:$F$15541))} -> 441.2 | D31: {=MAX(IF('بيانات القطع'!$A$4:$A$15541=A31,'بيانات القطع'!$F$4:$F$15541))} -> 836.3 | E31: {=MIN(IF('بيانات القطع'!$A$4:$A$15541=A31,'بيانات القطع'!$H$4:$H$15541))} -> 1356.2179 | F31: {=MAX(IF('بيانات القطع'!$A$4:$A$15541=A31,'بيانات القطع'!$H$4:$H$15541))} -> 2570.7276 | G31: =COUNTIFS('بيانات القطع'!$A$4:$A$15541,A31,'بيانات القطع'!$M$4:$M$15541,"متاحة") -> 1409
A32: السادات | B32: =COUNTIF('بيانات القطع'!$A$4:$A$15541,A32) -> 2273 | C32: {=MIN(IF('بيانات القطع'!$A$4:$A$15541=A32,'بيانات القطع'!$F$4:$F$15541))} -> 445 | D32: {=MAX(IF('بيانات القطع'!$A$4:$A$15541=A32,'بيانات القطع'!$F$4:$F$15541))} -> 1260 | E32: {=MIN(IF('بيانات القطع'!$A$4:$A$15541=A32,'بيانات القطع'!$H$4:$H$15541))} -> 1695.8171 | F32: {=MAX(IF('بيانات القطع'!$A$4:$A$15541=A32,'بيانات القطع'!$H$4:$H$15541))} -> 5025.2918 | G32: =COUNTIFS('بيانات القطع'!$A$4:$A$15541,A32,'بيانات القطع'!$M$4:$M$15541,"متاحة") -> 2273
A33: السادس من أكتوبر | B33: =COUNTIF('بيانات القطع'!$A$4:$A$15541,A33) -> 688 | C33: {=MIN(IF('بيانات القطع'!$A$4:$A$15541=A33,'بيانات القطع'!$F$4:$F$15541))} -> 371.3 | D33: {=MAX(IF('بيانات القطع'!$A$4:$A$15541=A33,'بيانات القطع'!$F$4:$F$15541))} -> 809 | E33: {=MIN(IF('بيانات القطع'!$A$4:$A$15541=A33,'بيانات القطع'!$H$4:$H$15541))} -> 1403.8949 | F33: {=MAX(IF('بيانات القطع'!$A$4:$A$15541=A33,'بيانات القطع'!$H$4:$H$15541))} -> 3244.3774 | G33: =COUNTIFS('بيانات القطع'!$A$4:$A$15541,A33,'بيانات القطع'!$M$4:$M$15541,"متاحة") -> 688
A34: الشروق | B34: =COUNTIF('بيانات القطع'!$A$4:$A$15541,A34) -> 193 | C34: {=MIN(IF('بيانات القطع'!$A$4:$A$15541=A34,'بيانات القطع'!$F$4:$F$15541))} -> 426.8 | D34: {=MAX(IF('بيانات القطع'!$A$4:$A$15541=A34,'بيانات القطع'!$F$4:$F$15541))} -> 788.7 | E34: {=MIN(IF('بيانات القطع'!$A$4:$A$15541=A34,'بيانات القطع'!$H$4:$H$15541))} -> 4775.8074 | F34: {=MAX(IF('بيانات القطع'!$A$4:$A$15541=A34,'بيانات القطع'!$H$4:$H$15541))} -> 8945.7607 | G34: =COUNTIFS('بيانات القطع'!$A$4:$A$15541,A34,'بيانات القطع'!$M$4:$M$15541,"متاحة") -> 193
A35: الشيخ زايد | B35: =COUNTIF('بيانات القطع'!$A$4:$A$15541,A35) -> 29 | C35: {=MIN(IF('بيانات القطع'!$A$4:$A$15541=A35,'بيانات القطع'!$F$4:$F$15541))} -> 442 | D35: {=MAX(IF('بيانات القطع'!$A$4:$A$15541=A35,'بيانات القطع'!$F$4:$F$15541))} -> 1069.87 | E35: {=MIN(IF('بيانات القطع'!$A$4:$A$15541=A35,'بيانات القطع'!$H$4:$H$15541))} -> 3975.3035 | F35: {=MAX(IF('بيانات القطع'!$A$4:$A$15541=A35,'بيانات القطع'!$H$4:$H$15541))} -> 10324.037 | G35: =COUNTIFS('بيانات القطع'!$A$4:$A$15541,A35,'بيانات القطع'!$M$4:$M$15541,"متاحة") -> 29
A36: العاشر من رمضان | B36: =COUNTIF('بيانات القطع'!$A$4:$A$15541,A36) -> 619 | C36: {=MIN(IF('بيانات القطع'!$A$4:$A$15541=A36,'بيانات القطع'!$F$4:$F$15541))} -> 428.1 | D36: {=MAX(IF('بيانات القطع'!$A$4:$A$15541=A36,'بيانات القطع'!$F$4:$F$15541))} -> 1413 | E36: {=MIN(IF('بيانات القطع'!$A$4:$A$15541=A36,'بيانات القطع'!$H$4:$H$15541))} -> 2040.5545 | F36: {=MAX(IF('بيانات القطع'!$A$4:$A$15541=A36,'بيانات القطع'!$H$4:$H$15541))} -> 5360.6031 | G36: =COUNTIFS('بيانات القطع'!$A$4:$A$15541,A36,'بيانات القطع'!$M$4:$M$15541,"متاحة") -> 619
A37: العبور | B37: =COUNTIF('بيانات القطع'!$A$4:$A$15541,A37) -> 10 | C37: {=MIN(IF('بيانات القطع'!$A$4:$A$15541=A37,'بيانات القطع'!$F$4:$F$15541))} -> 598 | D37: {=MAX(IF('بيانات القطع'!$A$4:$A$15541=A37,'بيانات القطع'!$F$4:$F$15541))} -> 600 | E37: {=MIN(IF('بيانات القطع'!$A$4:$A$15541=A37,'بيانات القطع'!$H$4:$H$15541))} -> 3013.2685 | F37: {=MAX(IF('بيانات القطع'!$A$4:$A$15541=A37,'بيانات القطع'!$H$4:$H$15541))} -> 3023.3463 | G37: =COUNTIFS('بيانات القطع'!$A$4:$A$15541,A37,'بيانات القطع'!$M$4:$M$15541,"متاحة") -> 10
A38: العبور الجديدة | B38: =COUNTIF('بيانات القطع'!$A$4:$A$15541,A38) -> 1060 | C38: {=MIN(IF('بيانات القطع'!$A$4:$A$15541=A38,'بيانات القطع'!$F$4:$F$15541))} -> 428 | D38: {=MAX(IF('بيانات القطع'!$A$4:$A$15541=A38,'بيانات القطع'!$F$4:$F$15541))} -> 749.3 | E38: {=MIN(IF('بيانات القطع'!$A$4:$A$15541=A38,'بيانات القطع'!$H$4:$H$15541))} -> 1597.2568 | F38: {=MAX(IF('بيانات القطع'!$A$4:$A$15541=A38,'بيانات القطع'!$H$4:$H$15541))} -> 2915.5642 | G38: =COUNTIFS('بيانات القطع'!$A$4:$A$15541,A38,'بيانات القطع'!$M$4:$M$15541,"متاحة") -> 1060
... A51: سوهاج الجديدة | B51: =COUNTIF('بيانات القطع'!$A$4:$A$15541,A51) -> 433 | C51: {=MIN(IF('بيانات القطع'!$A$4:$A$15541=A51,'بيانات القطع'!$F$4:$F$15541))} -> 394.4 | D51: {=MAX(IF('بيانات القطع'!$A$4:$A$15541=A51,'بيانات القطع'!$F$4:$F$15541))} -> 874.4 | E51: {=MIN(IF('بيانات القطع'!$A$4:$A$15541=A51,'بيانات القطع'!$H$4:$H$15541))} -> 1250.7237 | F51: {=MAX(IF('بيانات القطع'!$A$4:$A$15541=A51,'بيانات القطع'!$H$4:$H$15541))} -> 2908.9961 | G51: =COUNTIFS('بيانات القطع'!$A$4:$A$15541,A51,'بيانات القطع'!$M$4:$M$15541,"متاحة") -> 433
A54: عدد القطع حسب المدينة
